BEGIN:VCALENDAR
VERSION:2.0
PRODID:-//Champlain Valley Educational Services - ECPv6.2.5//NONSGML v1.0//EN
CALSCALE:GREGORIAN
METHOD:PUBLISH
X-ORIGINAL-URL:https://www.cves.org
X-WR-CALDESC:Events for Champlain Valley Educational Services
REFRESH-INTERVAL;VALUE=DURATION:PT1H
X-Robots-Tag:noindex
X-PUBLISHED-TTL:PT1H
BEGIN:VTIMEZONE
TZID:America/New_York
BEGIN:DAYLIGHT
TZOFFSETFROM:-0500
TZOFFSETTO:-0400
TZNAME:EDT
DTSTART:20250309T070000
END:DAYLIGHT
BEGIN:STANDARD
TZOFFSETFROM:-0400
TZOFFSETTO:-0500
TZNAME:EST
DTSTART:20251102T060000
END:STANDARD
END:VTIMEZONE
BEGIN:VEVENT
DTSTART;TZID=America/New_York:20251210T083000
DTEND;TZID=America/New_York:20251210T150000
DTSTAMP:20260420T005631
CREATED:20250908T181635Z
LAST-MODIFIED:20250908T181720Z
UID:144490-1765355400-1765378800@www.cves.org
SUMMARY:Annual Statewide Learning Symposium
DESCRIPTION:Time: 8:30 am – 3 pm\, sign-in and refreshments at 8 am \nWhat: Strengthening our Core: School Library Values in Practice \nDescription: Join us for an exciting day of professional learning as librarians gather around New York State to listen\, discuss\, and share best practices on programs\, projects\, and assignments based on the five ALA Core Values of Librarianship! \nLunch will be provided. \nLink to Register in Wincap: 2025 – 2026 SLS Professional Development
URL:https://www.cves.org/event/annual-statewide-learning-symposium/
LOCATION:CVES Conference Center – Plattsburgh\, NY\, 1443 Military Turnpike\, Plattsburgh\, NY\, 12901\, United States
CATEGORIES:School Support Services
END:VEVENT
END:VCALENDAR