BEGIN:VCALENDAR
VERSION:2.0
PRODID:-//Champlain Valley Educational Services - ECPv6.2.5//NONSGML v1.0//EN
CALSCALE:GREGORIAN
METHOD:PUBLISH
X-ORIGINAL-URL:https://www.cves.org
X-WR-CALDESC:Events for Champlain Valley Educational Services
REFRESH-INTERVAL;VALUE=DURATION:PT1H
X-Robots-Tag:noindex
X-PUBLISHED-TTL:PT1H
BEGIN:VTIMEZONE
TZID:America/New_York
BEGIN:DAYLIGHT
TZOFFSETFROM:-0500
TZOFFSETTO:-0400
TZNAME:EDT
DTSTART:20250309T070000
END:DAYLIGHT
BEGIN:STANDARD
TZOFFSETFROM:-0400
TZOFFSETTO:-0500
TZNAME:EST
DTSTART:20251102T060000
END:STANDARD
END:VTIMEZONE
BEGIN:VEVENT
DTSTART;TZID=America/New_York:20251124T083000
DTEND;TZID=America/New_York:20251124T150000
DTSTAMP:20260419T083317
CREATED:20251024T144142Z
LAST-MODIFIED:20251024T144142Z
UID:149251-1763973000-1763996400@www.cves.org
SUMMARY:The Science of Reading for Multilingual Learners:  NYSED Toolkit Overview
DESCRIPTION:Time:                 8:30 AM to 3:00 PM (Registration begins at 8:00 AM) Lunch will be provided \nLocation:          CVES Conference Center at 1443 Military Turnpike\, Plattsburgh \nCost:                  $45 per person\, Billed through 506 Co-Ser \nPresenter:        Featuring a presentation by Dr. Socorro Herrera\, professor at the College of Education and the director of the Center for Intercultural and Multilingual Advocacy at Kansas State University. \nDescription:     Join us for a full-day professional learning session focused on the Science of Reading and its application for English Language Learners (ELLs) and Multilingual Learners (MLs). This hybrid webinar will provide New York State administrators and literacy leaders with an overview of the NYSED Science of Reading Toolkit for Multilingual Learners\, including an in-dept overview of the six newly released briefs designed to support inclusive reading instruction for ELLs and MLs. \nParticipants will explore the ontological differences between ELLs\, MLs\, and monolingual students\, and gain practical strategies to enhance literacy outcomes for all learners. The day will include online presentations from state and national experts\, paired with in-person facilitated discussions at designated BOCES\, \nAudience:         This session is ideal for classroom teachers\, literacy coaches\, ENL/ESL educators\, reading specialists\, and school/district leaders committed to improving literacy outcomes for multilingual learners. \n*If you have any special dietary restrictions\, please reach out to CVES Workshop team at workshop@cves.org or call 518-561-0100 after registering for this event. \n  \nRegistration Link: 2025 – 2026 S3 Professional Development \n  \n  \n  \n  \n 
URL:https://www.cves.org/event/the-science-of-reading-for-multilingual-learners-nysed-toolkit-overview/
LOCATION:CVES Conference Center – Plattsburgh\, NY\, 1443 Military Turnpike\, Plattsburgh\, NY\, 12901\, United States
CATEGORIES:School Support Services
END:VEVENT
END:VCALENDAR