BEGIN:VCALENDAR
VERSION:2.0
PRODID:-//Champlain Valley Educational Services - ECPv6.2.5//NONSGML v1.0//EN
CALSCALE:GREGORIAN
METHOD:PUBLISH
X-WR-CALNAME:Champlain Valley Educational Services
X-ORIGINAL-URL:https://www.cves.org
X-WR-CALDESC:Events for Champlain Valley Educational Services
REFRESH-INTERVAL;VALUE=DURATION:PT1H
X-Robots-Tag:noindex
X-PUBLISHED-TTL:PT1H
BEGIN:VTIMEZONE
TZID:America/New_York
BEGIN:DAYLIGHT
TZOFFSETFROM:-0500
TZOFFSETTO:-0400
TZNAME:EDT
DTSTART:20250309T070000
END:DAYLIGHT
BEGIN:STANDARD
TZOFFSETFROM:-0400
TZOFFSETTO:-0500
TZNAME:EST
DTSTART:20251102T060000
END:STANDARD
END:VTIMEZONE
BEGIN:VEVENT
DTSTART;TZID=America/New_York:20251120T090000
DTEND;TZID=America/New_York:20251120T120000
DTSTAMP:20260419T233112
CREATED:20251009T181351Z
LAST-MODIFIED:20251117T205340Z
UID:147374-1763629200-1763640000@www.cves.org
SUMMARY:CANCELED - Model Schools: District Technology Plan Collaborative Session
DESCRIPTION:Date: November 20\, 2025\n\nTime: 9 am – 12  pm\n \nTitle: District Technology Plan Collaborative Session\n \nPresenters: Matt Palkovic\, Network Administrator and Susanne Ford\, Model Schools Coordinator\n \nDescription:\nThis collaborative brainstorming session will bring colleagues together to begin developing the district’s 2026–2029 Instructional Technology Plan (ITP). Participants will explore the state requirements and goals outlined by NYSED\, discuss shared priorities for integrating technology into teaching and learning\, and identify key steps and resources needed to move the plan forward.\n\nREGISTRATION LINK FOR WINCAP: 2025 – 2026 Model Schools
URL:https://www.cves.org/event/model-schools-district-technology-plan-collaborative-session/
LOCATION:CVES Conference Center – Plattsburgh\, NY\, 1443 Military Turnpike\, Plattsburgh\, NY\, 12901\, United States
CATEGORIES:School Support Services
END:VEVENT
BEGIN:VEVENT
DTSTART;TZID=America/New_York:20251120T113000
DTEND;TZID=America/New_York:20251120T150000
DTSTAMP:20260419T233112
CREATED:20250617T194358Z
LAST-MODIFIED:20250617T194358Z
UID:139651-1763638200-1763650800@www.cves.org
SUMMARY:High School Principals Meeting
DESCRIPTION:
URL:https://www.cves.org/event/high-school-principals-meeting-3/
LOCATION:CV-TEC Culinary Lab\, 1585 Military Turnpike\, Plattsburgh\, 12901\, United States
CATEGORIES:School Support Services
END:VEVENT
END:VCALENDAR