BEGIN:VCALENDAR
VERSION:2.0
PRODID:-//Champlain Valley Educational Services - ECPv6.2.5//NONSGML v1.0//EN
CALSCALE:GREGORIAN
METHOD:PUBLISH
X-ORIGINAL-URL:https://www.cves.org
X-WR-CALDESC:Events for Champlain Valley Educational Services
REFRESH-INTERVAL;VALUE=DURATION:PT1H
X-Robots-Tag:noindex
X-PUBLISHED-TTL:PT1H
BEGIN:VTIMEZONE
TZID:America/New_York
BEGIN:DAYLIGHT
TZOFFSETFROM:-0500
TZOFFSETTO:-0400
TZNAME:EDT
DTSTART:20250309T070000
END:DAYLIGHT
BEGIN:STANDARD
TZOFFSETFROM:-0400
TZOFFSETTO:-0500
TZNAME:EST
DTSTART:20251102T060000
END:STANDARD
END:VTIMEZONE
BEGIN:VEVENT
DTSTART;TZID=America/New_York:20251112T083000
DTEND;TZID=America/New_York:20251112T110000
DTSTAMP:20260419T134112
CREATED:20251010T131937Z
LAST-MODIFIED:20251010T131937Z
UID:147484-1762936200-1762945200@www.cves.org
SUMMARY:Associate Principal/Dean of Students Meeting
DESCRIPTION:REGISTRATION LINK FOR WINCAP: 2025 – 2026 S3 Professional Development
URL:https://www.cves.org/event/associate-principal-dean-of-students-meeting/
LOCATION:CVES Conference Center – Plattsburgh\, NY\, 1443 Military Turnpike\, Plattsburgh\, NY\, 12901\, United States
CATEGORIES:School Support Services
END:VEVENT
END:VCALENDAR